BEGIN:VCALENDAR
VERSION:2.0
PRODID:-//South Shore 5 Public Health Alliance - ECPv6.15.20//NONSGML v1.0//EN
CALSCALE:GREGORIAN
METHOD:PUBLISH
X-WR-CALNAME:South Shore 5 Public Health Alliance
X-ORIGINAL-URL:https://ss5pha.com
X-WR-CALDESC:Events for South Shore 5 Public Health Alliance
REFRESH-INTERVAL;VALUE=DURATION:PT1H
X-Robots-Tag:noindex
X-PUBLISHED-TTL:PT1H
BEGIN:VTIMEZONE
TZID:America/New_York
BEGIN:DAYLIGHT
TZOFFSETFROM:-0500
TZOFFSETTO:-0400
TZNAME:EDT
DTSTART:20250309T070000
END:DAYLIGHT
BEGIN:STANDARD
TZOFFSETFROM:-0400
TZOFFSETTO:-0500
TZNAME:EST
DTSTART:20251102T060000
END:STANDARD
BEGIN:DAYLIGHT
TZOFFSETFROM:-0500
TZOFFSETTO:-0400
TZNAME:EDT
DTSTART:20260308T070000
END:DAYLIGHT
BEGIN:STANDARD
TZOFFSETFROM:-0400
TZOFFSETTO:-0500
TZNAME:EST
DTSTART:20261101T060000
END:STANDARD
BEGIN:DAYLIGHT
TZOFFSETFROM:-0500
TZOFFSETTO:-0400
TZNAME:EDT
DTSTART:20270314T070000
END:DAYLIGHT
BEGIN:STANDARD
TZOFFSETFROM:-0400
TZOFFSETTO:-0500
TZNAME:EST
DTSTART:20271107T060000
END:STANDARD
END:VTIMEZONE
BEGIN:VEVENT
DTSTART;TZID=America/New_York:20260210T100000
DTEND;TZID=America/New_York:20260210T110000
DTSTAMP:20260425T091752
CREATED:20260209T193903Z
LAST-MODIFIED:20260209T193903Z
UID:1065-1770717600-1770721200@ss5pha.com
SUMMARY:February 10th\, 2026 Coalition Meeting
DESCRIPTION:The South Shore 5 Public Health Alliance (SS5) is a Public Health Excellence shared services group comprising the Boards of Health and Health Departments in Hanover\, Marshfield\, Norwell\, Pembroke\, and Rockland\, Massachusetts. SS5’s purpose is to strengthen and promote public health across its participating communities. During its monthly meetings\, SS5 implements regional programming\, shares information and resources\, develops policies\, and manages shared services. \nSS5 follows Open Meeting Law in Massachusetts. Under Open Meeting Law\, the public is permitted to attend meetings of a public body\, though public participation is at the discretion of the Chair. SS5 invites the public to propose participation\, agenda items\, and discussion topics. \n 
URL:https://ss5pha.com/event/february-10th-2026-coalition-meeting/
END:VEVENT
BEGIN:VEVENT
DTSTART;TZID=America/New_York:20260211T123000
DTEND;TZID=America/New_York:20260211T140000
DTSTAMP:20260425T091752
CREATED:20260209T193144Z
LAST-MODIFIED:20260209T193144Z
UID:1055-1770813000-1770818400@ss5pha.com
SUMMARY:February 11th\, 2026 Marshfield TRIAD Presentation\, COA
DESCRIPTION:Marshfield Council on Aging\, 12:30pm – 2pm \nJoin SS5’s Regional Team for a presentation on hoarding and SS5 resources.
URL:https://ss5pha.com/event/february-11th-2026-marshfield-triad-presentation-coa/
END:VEVENT
BEGIN:VEVENT
DTSTART;TZID=America/New_York:20260219T093000
DTEND;TZID=America/New_York:20260219T110000
DTSTAMP:20260425T091752
CREATED:20260209T190814Z
LAST-MODIFIED:20260209T190814Z
UID:1034-1771493400-1771498800@ss5pha.com
SUMMARY:February 19th\, 2026 Rockland Blood Pressure Clinic
DESCRIPTION:Rockland Council on Aging\, 9:30am – 11am
URL:https://ss5pha.com/event/february-19th-2026-rockland-blood-pressure-clinic/
END:VEVENT
BEGIN:VEVENT
DTSTART;TZID=America/New_York:20260220T110000
DTEND;TZID=America/New_York:20260220T120000
DTSTAMP:20260425T091752
CREATED:20260209T192343Z
LAST-MODIFIED:20260209T192343Z
UID:1047-1771585200-1771588800@ss5pha.com
SUMMARY:February 20th\, 2026 Marshfield Ask a Nurse & Blood Pressure Clinic
DESCRIPTION:Marshfield Council on Aging\, 11am – 12pm
URL:https://ss5pha.com/event/february-20th-2026-marshfield-ask-a-nurse-blood-pressure-clinic/
END:VEVENT
BEGIN:VEVENT
DTSTART;TZID=America/New_York:20260224T100000
DTEND;TZID=America/New_York:20260224T110000
DTSTAMP:20260425T091752
CREATED:20260209T193950Z
LAST-MODIFIED:20260224T124539Z
UID:1067-1771927200-1771930800@ss5pha.com
SUMMARY:CANCELLED: February 24th\, 2026 Coalition Meeting
DESCRIPTION:The South Shore 5 Public Health Alliance (SS5) is a Public Health Excellence shared services group comprising the Boards of Health and Health Departments in Hanover\, Marshfield\, Norwell\, Pembroke\, and Rockland\, Massachusetts. SS5’s purpose is to strengthen and promote public health across its participating communities. During its monthly meetings\, SS5 implements regional programming\, shares information and resources\, develops policies\, and manages shared services. \nSS5 follows Open Meeting Law in Massachusetts. Under Open Meeting Law\, the public is permitted to attend meetings of a public body\, though public participation is at the discretion of the Chair. SS5 invites the public to propose participation\, agenda items\, and discussion topics. \n 
URL:https://ss5pha.com/event/february-24th-2026-coalition-meeting/
END:VEVENT
END:VCALENDAR