BEGIN:VCALENDAR
VERSION:2.0
PRODID:-//South Shore 5 Public Health Alliance - ECPv6.15.20//NONSGML v1.0//EN
CALSCALE:GREGORIAN
METHOD:PUBLISH
X-ORIGINAL-URL:https://ss5pha.com
X-WR-CALDESC:Events for South Shore 5 Public Health Alliance
REFRESH-INTERVAL;VALUE=DURATION:PT1H
X-Robots-Tag:noindex
X-PUBLISHED-TTL:PT1H
BEGIN:VTIMEZONE
TZID:America/New_York
BEGIN:DAYLIGHT
TZOFFSETFROM:-0500
TZOFFSETTO:-0400
TZNAME:EDT
DTSTART:20250309T070000
END:DAYLIGHT
BEGIN:STANDARD
TZOFFSETFROM:-0400
TZOFFSETTO:-0500
TZNAME:EST
DTSTART:20251102T060000
END:STANDARD
BEGIN:DAYLIGHT
TZOFFSETFROM:-0500
TZOFFSETTO:-0400
TZNAME:EDT
DTSTART:20260308T070000
END:DAYLIGHT
BEGIN:STANDARD
TZOFFSETFROM:-0400
TZOFFSETTO:-0500
TZNAME:EST
DTSTART:20261101T060000
END:STANDARD
BEGIN:DAYLIGHT
TZOFFSETFROM:-0500
TZOFFSETTO:-0400
TZNAME:EDT
DTSTART:20270314T070000
END:DAYLIGHT
BEGIN:STANDARD
TZOFFSETFROM:-0400
TZOFFSETTO:-0500
TZNAME:EST
DTSTART:20271107T060000
END:STANDARD
END:VTIMEZONE
BEGIN:VEVENT
DTSTART;TZID=America/New_York:20260113T100000
DTEND;TZID=America/New_York:20260113T110000
DTSTAMP:20260425T104523
CREATED:20260121T144708Z
LAST-MODIFIED:20260121T144708Z
UID:1011-1768298400-1768302000@ss5pha.com
SUMMARY:January 13th\, 2026 Coalition Meeting
DESCRIPTION:The South Shore 5 Public Health Alliance (SS5) is a Public Health Excellence shared services group comprising the Boards of Health and Health Departments in Hanover\, Marshfield\, Norwell\, Pembroke\, and Rockland\, Massachusetts. SS5’s purpose is to strengthen and promote public health across its participating communities. During its monthly meetings\, SS5 implements regional programming\, shares information and resources\, develops policies\, and manages shared services. \nSS5 follows Open Meeting Law in Massachusetts. Under Open Meeting Law\, the public is permitted to attend meetings of a public body\, though public participation is at the discretion of the Chair. SS5 invites the public to propose participation\, agenda items\, and discussion topics. \nMeeting Details\nTBA
URL:https://ss5pha.com/event/january-13th-2026-coalition-meeting/
END:VEVENT
BEGIN:VEVENT
DTSTART;TZID=America/New_York:20260122T093000
DTEND;TZID=America/New_York:20260122T110000
DTSTAMP:20260425T104523
CREATED:20260121T145911Z
LAST-MODIFIED:20260121T150046Z
UID:1018-1769074200-1769079600@ss5pha.com
SUMMARY:January 22nd\, 2026 Rockland Blood Pressure Clinic
DESCRIPTION:Rockland Council on Aging\, 9:30am – 11am
URL:https://ss5pha.com/event/january-22nd-2026-rockland-blood-pressure-clinic/
END:VEVENT
BEGIN:VEVENT
DTSTART;TZID=America/New_York:20260127T100000
DTEND;TZID=America/New_York:20260127T110000
DTSTAMP:20260425T104523
CREATED:20260209T193824Z
LAST-MODIFIED:20260209T193824Z
UID:1063-1769508000-1769511600@ss5pha.com
SUMMARY:January 27th\, 2026 Coalition Meeting
DESCRIPTION:The South Shore 5 Public Health Alliance (SS5) is a Public Health Excellence shared services group comprising the Boards of Health and Health Departments in Hanover\, Marshfield\, Norwell\, Pembroke\, and Rockland\, Massachusetts. SS5’s purpose is to strengthen and promote public health across its participating communities. During its monthly meetings\, SS5 implements regional programming\, shares information and resources\, develops policies\, and manages shared services. \nSS5 follows Open Meeting Law in Massachusetts. Under Open Meeting Law\, the public is permitted to attend meetings of a public body\, though public participation is at the discretion of the Chair. SS5 invites the public to propose participation\, agenda items\, and discussion topics. \n 
URL:https://ss5pha.com/event/january-27th-2026-coalition-meeting/
END:VEVENT
END:VCALENDAR