BEGIN:VCALENDAR
VERSION:2.0
PRODID:-//South Shore 5 Public Health Alliance - ECPv6.15.20//NONSGML v1.0//EN
CALSCALE:GREGORIAN
METHOD:PUBLISH
X-ORIGINAL-URL:https://ss5pha.com
X-WR-CALDESC:Events for South Shore 5 Public Health Alliance
REFRESH-INTERVAL;VALUE=DURATION:PT1H
X-Robots-Tag:noindex
X-PUBLISHED-TTL:PT1H
BEGIN:VTIMEZONE
TZID:America/New_York
BEGIN:DAYLIGHT
TZOFFSETFROM:-0500
TZOFFSETTO:-0400
TZNAME:EDT
DTSTART:20250309T070000
END:DAYLIGHT
BEGIN:STANDARD
TZOFFSETFROM:-0400
TZOFFSETTO:-0500
TZNAME:EST
DTSTART:20251102T060000
END:STANDARD
BEGIN:DAYLIGHT
TZOFFSETFROM:-0500
TZOFFSETTO:-0400
TZNAME:EDT
DTSTART:20260308T070000
END:DAYLIGHT
BEGIN:STANDARD
TZOFFSETFROM:-0400
TZOFFSETTO:-0500
TZNAME:EST
DTSTART:20261101T060000
END:STANDARD
BEGIN:DAYLIGHT
TZOFFSETFROM:-0500
TZOFFSETTO:-0400
TZNAME:EDT
DTSTART:20270314T070000
END:DAYLIGHT
BEGIN:STANDARD
TZOFFSETFROM:-0400
TZOFFSETTO:-0500
TZNAME:EST
DTSTART:20271107T060000
END:STANDARD
END:VTIMEZONE
BEGIN:VEVENT
DTSTART;TZID=America/New_York:20260618T093000
DTEND;TZID=America/New_York:20260618T110000
DTSTAMP:20260423T075151
CREATED:20260417T161913Z
LAST-MODIFIED:20260417T161913Z
UID:1163-1781775000-1781780400@ss5pha.com
SUMMARY:June 18th\, 2026 Rockland Blood Pressure Clinic
DESCRIPTION:Rockland Council on Aging\, 9:30am – 11am
URL:https://ss5pha.com/event/june-18th-2026-rockland-blood-pressure-clinic/
END:VEVENT
BEGIN:VEVENT
DTSTART;TZID=America/New_York:20260619T110000
DTEND;TZID=America/New_York:20260619T120000
DTSTAMP:20260423T075151
CREATED:20260417T162022Z
LAST-MODIFIED:20260417T162022Z
UID:1165-1781866800-1781870400@ss5pha.com
SUMMARY:June 19th\, 2026 Marshfield Ask a Nurse & Blood Pressure Clinic
DESCRIPTION:Marshfield Council on Aging\, 11am – 12pm
URL:https://ss5pha.com/event/june-19th-2026-marshfield-ask-a-nurse-blood-pressure-clinic/
END:VEVENT
END:VCALENDAR